BEGIN:VCALENDAR
VERSION:2.0
PRODID:-//Vios Gym Beltrum - ECPv6.15.20//NONSGML v1.0//EN
CALSCALE:GREGORIAN
METHOD:PUBLISH
X-ORIGINAL-URL:https://viosgym.nl
X-WR-CALDESC:Evenementen voor Vios Gym Beltrum
REFRESH-INTERVAL;VALUE=DURATION:PT1H
X-Robots-Tag:noindex
X-PUBLISHED-TTL:PT1H
BEGIN:VTIMEZONE
TZID:Europe/Amsterdam
BEGIN:DAYLIGHT
TZOFFSETFROM:+0100
TZOFFSETTO:+0200
TZNAME:CEST
DTSTART:20160327T010000
END:DAYLIGHT
BEGIN:STANDARD
TZOFFSETFROM:+0200
TZOFFSETTO:+0100
TZNAME:CET
DTSTART:20161030T010000
END:STANDARD
BEGIN:DAYLIGHT
TZOFFSETFROM:+0100
TZOFFSETTO:+0200
TZNAME:CEST
DTSTART:20170326T010000
END:DAYLIGHT
BEGIN:STANDARD
TZOFFSETFROM:+0200
TZOFFSETTO:+0100
TZNAME:CET
DTSTART:20171029T010000
END:STANDARD
BEGIN:DAYLIGHT
TZOFFSETFROM:+0100
TZOFFSETTO:+0200
TZNAME:CEST
DTSTART:20180325T010000
END:DAYLIGHT
BEGIN:STANDARD
TZOFFSETFROM:+0200
TZOFFSETTO:+0100
TZNAME:CET
DTSTART:20181028T010000
END:STANDARD
END:VTIMEZONE
BEGIN:VEVENT
DTSTART;VALUE=DATE:20170520
DTEND;VALUE=DATE:20170521
DTSTAMP:20260421T224035
CREATED:20170304T091356Z
LAST-MODIFIED:20170304T155450Z
UID:683-1495238400-1495324799@viosgym.nl
SUMMARY:Selectie wedstrijden 4e divisie\, Districtfinale
DESCRIPTION:
URL:https://viosgym.nl/activiteit/selectiewedstrijden-4e-divisie-districtfinale/
LOCATION:Saza topsporthal Doetinchem\, Sportweg 1\, Doetinchem\, Gelderland\, 7006GJ\, Nederland
CATEGORIES:4e divisie,Wedstrijden
ORGANIZER;CN="VIOS Gym":MAILTO:info@viosgym.nl
END:VEVENT
BEGIN:VEVENT
DTSTART;VALUE=DATE:20170415
DTEND;VALUE=DATE:20170416
DTSTAMP:20260421T224035
CREATED:20170304T091209Z
LAST-MODIFIED:20170304T155412Z
UID:681-1492214400-1492300799@viosgym.nl
SUMMARY:Selectie wedstrijden 4e divisie Finale
DESCRIPTION:
URL:https://viosgym.nl/activiteit/selectiewedstrijden-4e-divisie-finale/
LOCATION:Saza topsporthal Doetinchem\, Sportweg 1\, Doetinchem\, Gelderland\, 7006GJ\, Nederland
CATEGORIES:4e divisie,Wedstrijden
ORGANIZER;CN="VIOS Gym":MAILTO:info@viosgym.nl
END:VEVENT
BEGIN:VEVENT
DTSTART;VALUE=DATE:20170319
DTEND;VALUE=DATE:20170320
DTSTAMP:20260421T224035
CREATED:20170304T160048Z
LAST-MODIFIED:20170304T160048Z
UID:700-1489881600-1489967999@viosgym.nl
SUMMARY:Selectie wedstrijden 4e divisie
DESCRIPTION:
URL:https://viosgym.nl/activiteit/selectie-wedstrijden-4e-divisie-2/
LOCATION:Saza topsporthal Doetinchem\, Sportweg 1\, Doetinchem\, Gelderland\, 7006GJ\, Nederland
CATEGORIES:4e divisie,Wedstrijden
ORGANIZER;CN="VIOS Gym":MAILTO:info@viosgym.nl
END:VEVENT
BEGIN:VEVENT
DTSTART;VALUE=DATE:20170318
DTEND;VALUE=DATE:20170319
DTSTAMP:20260421T224035
CREATED:20170304T091052Z
LAST-MODIFIED:20170304T155244Z
UID:679-1489795200-1489881599@viosgym.nl
SUMMARY:Selectie wedstrijden 4e divisie
DESCRIPTION:
URL:https://viosgym.nl/activiteit/selectie-wedstrijden-4e-divisie/
LOCATION:Saza topsporthal Doetinchem\, Sportweg 1\, Doetinchem\, Gelderland\, 7006GJ\, Nederland
CATEGORIES:4e divisie,Wedstrijden
ORGANIZER;CN="VIOS Gym":MAILTO:info@viosgym.nl
END:VEVENT
END:VCALENDAR