BEGIN:VCALENDAR
VERSION:2.0
PRODID:-//Vios Gym Beltrum - ECPv6.15.20//NONSGML v1.0//EN
CALSCALE:GREGORIAN
METHOD:PUBLISH
X-WR-CALNAME:Vios Gym Beltrum
X-ORIGINAL-URL:https://viosgym.nl
X-WR-CALDESC:Evenementen voor Vios Gym Beltrum
REFRESH-INTERVAL;VALUE=DURATION:PT1H
X-Robots-Tag:noindex
X-PUBLISHED-TTL:PT1H
BEGIN:VTIMEZONE
TZID:Europe/Amsterdam
BEGIN:DAYLIGHT
TZOFFSETFROM:+0100
TZOFFSETTO:+0200
TZNAME:CEST
DTSTART:20160327T010000
END:DAYLIGHT
BEGIN:STANDARD
TZOFFSETFROM:+0200
TZOFFSETTO:+0100
TZNAME:CET
DTSTART:20161030T010000
END:STANDARD
BEGIN:DAYLIGHT
TZOFFSETFROM:+0100
TZOFFSETTO:+0200
TZNAME:CEST
DTSTART:20170326T010000
END:DAYLIGHT
BEGIN:STANDARD
TZOFFSETFROM:+0200
TZOFFSETTO:+0100
TZNAME:CET
DTSTART:20171029T010000
END:STANDARD
BEGIN:DAYLIGHT
TZOFFSETFROM:+0100
TZOFFSETTO:+0200
TZNAME:CEST
DTSTART:20180325T010000
END:DAYLIGHT
BEGIN:STANDARD
TZOFFSETFROM:+0200
TZOFFSETTO:+0100
TZNAME:CET
DTSTART:20181028T010000
END:STANDARD
END:VTIMEZONE
BEGIN:VEVENT
DTSTART;VALUE=DATE:20170513
DTEND;VALUE=DATE:20170514
DTSTAMP:20260421T224035
CREATED:20170304T155946Z
LAST-MODIFIED:20170304T155946Z
UID:698-1494633600-1494719999@viosgym.nl
SUMMARY:Selectie wedstrijden 5e divisie\, Finale
DESCRIPTION:
URL:https://viosgym.nl/activiteit/selectie-wedstrijden-5e-divisie-finale/
LOCATION:Saza topsporthal Doetinchem\, Sportweg 1\, Doetinchem\, Gelderland\, 7006GJ\, Nederland
CATEGORIES:5e divisie,Wedstrijden
ORGANIZER;CN="VIOS Gym":MAILTO:info@viosgym.nl
END:VEVENT
BEGIN:VEVENT
DTSTART;VALUE=DATE:20170402
DTEND;VALUE=DATE:20170403
DTSTAMP:20260421T224035
CREATED:20170304T155859Z
LAST-MODIFIED:20170304T155859Z
UID:696-1491091200-1491177599@viosgym.nl
SUMMARY:Selectie wedstrijden 5e divisie
DESCRIPTION:
URL:https://viosgym.nl/activiteit/selectie-wedstrijden-5e-divisie-4/
LOCATION:Saza topsporthal Doetinchem\, Sportweg 1\, Doetinchem\, Gelderland\, 7006GJ\, Nederland
CATEGORIES:5e divisie,Wedstrijden
ORGANIZER;CN="VIOS Gym":MAILTO:info@viosgym.nl
END:VEVENT
BEGIN:VEVENT
DTSTART;VALUE=DATE:20170401
DTEND;VALUE=DATE:20170402
DTSTAMP:20260421T224035
CREATED:20170304T155807Z
LAST-MODIFIED:20170304T155807Z
UID:694-1491004800-1491091199@viosgym.nl
SUMMARY:Selectie wedstrijden 5e divisie
DESCRIPTION:
URL:https://viosgym.nl/activiteit/selectie-wedstrijden-5e-divisie-3/
LOCATION:Saza topsporthal Doetinchem\, Sportweg 1\, Doetinchem\, Gelderland\, 7006GJ\, Nederland
CATEGORIES:5e divisie,Wedstrijden
ORGANIZER;CN="VIOS Gym":MAILTO:info@viosgym.nl
END:VEVENT
BEGIN:VEVENT
DTSTART;VALUE=DATE:20170312
DTEND;VALUE=DATE:20170313
DTSTAMP:20260421T224035
CREATED:20170304T155719Z
LAST-MODIFIED:20170304T155719Z
UID:692-1489276800-1489363199@viosgym.nl
SUMMARY:Selectie wedstrijden 5e divisie
DESCRIPTION:
URL:https://viosgym.nl/activiteit/selectie-wedstrijden-5e-divisie-2/
LOCATION:Saza topsporthal Doetinchem\, Sportweg 1\, Doetinchem\, Gelderland\, 7006GJ\, Nederland
CATEGORIES:5e divisie,Wedstrijden
ORGANIZER;CN="VIOS Gym":MAILTO:info@viosgym.nl
END:VEVENT
BEGIN:VEVENT
DTSTART;VALUE=DATE:20170311
DTEND;VALUE=DATE:20170312
DTSTAMP:20260421T224035
CREATED:20170304T155617Z
LAST-MODIFIED:20170304T155617Z
UID:690-1489190400-1489276799@viosgym.nl
SUMMARY:Selectie wedstrijden 5e divisie
DESCRIPTION:
URL:https://viosgym.nl/activiteit/selectie-wedstrijden-5e-divisie/
LOCATION:Saza topsporthal Doetinchem\, Sportweg 1\, Doetinchem\, Gelderland\, 7006GJ\, Nederland
CATEGORIES:5e divisie,Wedstrijden
ORGANIZER;CN="VIOS Gym":MAILTO:info@viosgym.nl
END:VEVENT
END:VCALENDAR