BEGIN:VCALENDAR
VERSION:2.0
PRODID:-//Vios Gym Beltrum - ECPv6.15.20//NONSGML v1.0//EN
CALSCALE:GREGORIAN
METHOD:PUBLISH
X-WR-CALNAME:Vios Gym Beltrum
X-ORIGINAL-URL:https://viosgym.nl
X-WR-CALDESC:Evenementen voor Vios Gym Beltrum
REFRESH-INTERVAL;VALUE=DURATION:PT1H
X-Robots-Tag:noindex
X-PUBLISHED-TTL:PT1H
BEGIN:VTIMEZONE
TZID:Europe/Amsterdam
BEGIN:DAYLIGHT
TZOFFSETFROM:+0100
TZOFFSETTO:+0200
TZNAME:CEST
DTSTART:20170326T010000
END:DAYLIGHT
BEGIN:STANDARD
TZOFFSETFROM:+0200
TZOFFSETTO:+0100
TZNAME:CET
DTSTART:20171029T010000
END:STANDARD
BEGIN:DAYLIGHT
TZOFFSETFROM:+0100
TZOFFSETTO:+0200
TZNAME:CEST
DTSTART:20180325T010000
END:DAYLIGHT
BEGIN:STANDARD
TZOFFSETFROM:+0200
TZOFFSETTO:+0100
TZNAME:CET
DTSTART:20181028T010000
END:STANDARD
BEGIN:DAYLIGHT
TZOFFSETFROM:+0100
TZOFFSETTO:+0200
TZNAME:CEST
DTSTART:20190331T010000
END:DAYLIGHT
BEGIN:STANDARD
TZOFFSETFROM:+0200
TZOFFSETTO:+0100
TZNAME:CET
DTSTART:20191027T010000
END:STANDARD
BEGIN:DAYLIGHT
TZOFFSETFROM:+0100
TZOFFSETTO:+0200
TZNAME:CEST
DTSTART:20200329T010000
END:DAYLIGHT
BEGIN:STANDARD
TZOFFSETFROM:+0200
TZOFFSETTO:+0100
TZNAME:CET
DTSTART:20201025T010000
END:STANDARD
BEGIN:DAYLIGHT
TZOFFSETFROM:+0100
TZOFFSETTO:+0200
TZNAME:CEST
DTSTART:20210328T010000
END:DAYLIGHT
BEGIN:STANDARD
TZOFFSETFROM:+0200
TZOFFSETTO:+0100
TZNAME:CET
DTSTART:20211031T010000
END:STANDARD
END:VTIMEZONE
BEGIN:VEVENT
DTSTART;VALUE=DATE:20200831
DTEND;VALUE=DATE:20200901
DTSTAMP:20260421T062231
CREATED:20200701T170154Z
LAST-MODIFIED:20200701T170830Z
UID:1184-1598832000-1598918399@viosgym.nl
SUMMARY:Start gym seizoen 2020-2021
DESCRIPTION:Deze week starten de gymlessen weer
URL:https://viosgym.nl/activiteit/1184/
LOCATION:Sportpark De Sonders\, Avesterweg 1\, Beltrum\, Gelderland\, 7156 MH\, Nederland
ORGANIZER;CN="VIOS Gym":MAILTO:info@viosgym.nl
END:VEVENT
BEGIN:VEVENT
DTSTART;VALUE=DATE:20190719
DTEND;VALUE=DATE:20190831
DTSTAMP:20260421T062231
CREATED:20181005T092132Z
LAST-MODIFIED:20181005T092132Z
UID:1043-1563494400-1567209599@viosgym.nl
SUMMARY:Zomervakantie geen gymlessen
DESCRIPTION:
URL:https://viosgym.nl/activiteit/zomervakantie-geen-gymlessen/
LOCATION:Gelderland
END:VEVENT
BEGIN:VEVENT
DTSTART;VALUE=DATE:20190713
DTEND;VALUE=DATE:20190714
DTSTAMP:20260421T062231
CREATED:20181005T090753Z
LAST-MODIFIED:20181005T090753Z
UID:1026-1562976000-1563062399@viosgym.nl
SUMMARY:Clubkampioenschappen Vios gym
DESCRIPTION:
URL:https://viosgym.nl/activiteit/clubkampioenschappen-vios-gym/
LOCATION:Sportpark De Sonders\, Avesterweg 1\, Beltrum\, Gelderland\, 7156 MH\, Nederland
ORGANIZER;CN="VIOS Gym":MAILTO:info@viosgym.nl
END:VEVENT
BEGIN:VEVENT
DTSTART;VALUE=DATE:20190712
DTEND;VALUE=DATE:20190713
DTSTAMP:20260421T062231
CREATED:20181005T092227Z
LAST-MODIFIED:20181005T092227Z
UID:1045-1562889600-1562975999@viosgym.nl
SUMMARY:Laaste gymles seizoen 2018/2019
DESCRIPTION:
URL:https://viosgym.nl/activiteit/laaste-gymles-seizoen-2018-2019/
LOCATION:Gelderland
END:VEVENT
BEGIN:VEVENT
DTSTART;VALUE=DATE:20190614
DTEND;VALUE=DATE:20190615
DTSTAMP:20260421T062231
CREATED:20181005T091812Z
LAST-MODIFIED:20181005T091812Z
UID:1041-1560470400-1560556799@viosgym.nl
SUMMARY:Pinkstervakantie geen gymles
DESCRIPTION:
URL:https://viosgym.nl/activiteit/pinkstervakantie-geen-gymles/
LOCATION:Gelderland
END:VEVENT
BEGIN:VEVENT
DTSTART;VALUE=DATE:20190610
DTEND;VALUE=DATE:20190611
DTSTAMP:20260421T062231
CREATED:20181005T090456Z
LAST-MODIFIED:20181005T090456Z
UID:1024-1560124800-1560211199@viosgym.nl
SUMMARY:Fietstocht pinksteren georganiseerd door Vios Gym
DESCRIPTION:
URL:https://viosgym.nl/activiteit/fietstocht-pinksteren-georganiseerd-door-vios-gym/
LOCATION:Gelderland
ORGANIZER;CN="VIOS Gym":MAILTO:info@viosgym.nl
END:VEVENT
BEGIN:VEVENT
DTSTART;VALUE=DATE:20190531
DTEND;VALUE=DATE:20190601
DTSTAMP:20260421T062231
CREATED:20181005T091731Z
LAST-MODIFIED:20181005T091731Z
UID:1039-1559260800-1559347199@viosgym.nl
SUMMARY:Geen gymles
DESCRIPTION:
URL:https://viosgym.nl/activiteit/geen-gymles-2/
LOCATION:Gelderland
END:VEVENT
BEGIN:VEVENT
DTSTART;VALUE=DATE:20190503
DTEND;VALUE=DATE:20190504
DTSTAMP:20260421T062231
CREATED:20181005T091609Z
LAST-MODIFIED:20181005T091609Z
UID:1037-1556841600-1556927999@viosgym.nl
SUMMARY:Meivakantie geen gymles
DESCRIPTION:
URL:https://viosgym.nl/activiteit/meivakantie-geen-gymles-2/
LOCATION:Gelderland
END:VEVENT
BEGIN:VEVENT
DTSTART;VALUE=DATE:20190426
DTEND;VALUE=DATE:20190427
DTSTAMP:20260421T062231
CREATED:20181005T091515Z
LAST-MODIFIED:20181005T091515Z
UID:1035-1556236800-1556323199@viosgym.nl
SUMMARY:Meivakantie geen gymles
DESCRIPTION:
URL:https://viosgym.nl/activiteit/meivakantie-geen-gymles/
LOCATION:Gelderland
END:VEVENT
BEGIN:VEVENT
DTSTART;VALUE=DATE:20190419
DTEND;VALUE=DATE:20190420
DTSTAMP:20260421T062231
CREATED:20181005T085718Z
LAST-MODIFIED:20181005T085718Z
UID:1018-1555632000-1555718399@viosgym.nl
SUMMARY:Goede vrijdag geen lessen
DESCRIPTION:
URL:https://viosgym.nl/activiteit/goede-vrijdag-geen-lessen/
LOCATION:Sportpark De Sonders\, Avesterweg 1\, Beltrum\, Gelderland\, 7156 MH\, Nederland
END:VEVENT
BEGIN:VEVENT
DTSTART;VALUE=DATE:20190412
DTEND;VALUE=DATE:20190413
DTSTAMP:20260421T062231
CREATED:20181005T090250Z
LAST-MODIFIED:20181005T091417Z
UID:1022-1555027200-1555113599@viosgym.nl
SUMMARY:Koningsspelen kom in Oranje!!
DESCRIPTION:
URL:https://viosgym.nl/activiteit/koningspelen-kom-in-oranje/
LOCATION:Sportpark De Sonders\, Avesterweg 1\, Beltrum\, Gelderland\, 7156 MH\, Nederland
ORGANIZER;CN="VIOS Gym":MAILTO:info@viosgym.nl
END:VEVENT
BEGIN:VEVENT
DTSTART;TZID=Europe/Amsterdam:20190411T200000
DTEND;TZID=Europe/Amsterdam:20190411T223000
DTSTAMP:20260421T062231
CREATED:20181005T090157Z
LAST-MODIFIED:20181005T090157Z
UID:1020-1555012800-1555021800@viosgym.nl
SUMMARY:Jaarvergadering
DESCRIPTION:
URL:https://viosgym.nl/activiteit/jaarvergadering-2/
LOCATION:Dute Beltrum\, Meester Nelissenstraat16\, Beltrum\, 7156MD\, Nederland
ORGANIZER;CN="VIOS Gym":MAILTO:info@viosgym.nl
END:VEVENT
BEGIN:VEVENT
DTSTART;VALUE=DATE:20190308
DTEND;VALUE=DATE:20190309
DTSTAMP:20260421T062231
CREATED:20181005T091239Z
LAST-MODIFIED:20181005T091239Z
UID:1032-1552003200-1552089599@viosgym.nl
SUMMARY:Voorjaarsvakantie geen gymles
DESCRIPTION:
URL:https://viosgym.nl/activiteit/voorjaarsvakantie-geen-gymles/
LOCATION:Gelderland
END:VEVENT
BEGIN:VEVENT
DTSTART;VALUE=DATE:20190301
DTEND;VALUE=DATE:20190302
DTSTAMP:20260421T062231
CREATED:20181005T085533Z
LAST-MODIFIED:20181005T085533Z
UID:1016-1551398400-1551484799@viosgym.nl
SUMMARY:Carnaval in de gymlessen
DESCRIPTION:
URL:https://viosgym.nl/activiteit/carnaval-in-de-gymlessen/
LOCATION:Sportpark De Sonders\, Avesterweg 1\, Beltrum\, Gelderland\, 7156 MH\, Nederland
ORGANIZER;CN="VIOS Gym":MAILTO:info@viosgym.nl
END:VEVENT
BEGIN:VEVENT
DTSTART;TZID=Europe/Amsterdam:20190125T080000
DTEND;TZID=Europe/Amsterdam:20190125T170000
DTSTAMP:20260421T062231
CREATED:20181005T091115Z
LAST-MODIFIED:20181005T091115Z
UID:1030-1548403200-1548435600@viosgym.nl
SUMMARY:Studiedag de sterrenboog WEL gymles
DESCRIPTION:
URL:https://viosgym.nl/activiteit/studiedag-de-sterrenboog-wel-gymles/
LOCATION:Gelderland
END:VEVENT
BEGIN:VEVENT
DTSTART;VALUE=DATE:20190104
DTEND;VALUE=DATE:20190105
DTSTAMP:20260421T062231
CREATED:20181005T085432Z
LAST-MODIFIED:20181005T085432Z
UID:1014-1546560000-1546646399@viosgym.nl
SUMMARY:Filmmiddag jeugd
DESCRIPTION:
URL:https://viosgym.nl/activiteit/filmmiddag-jeugd/
LOCATION:Sportpark De Sonders\, Avesterweg 1\, Beltrum\, Gelderland\, 7156 MH\, Nederland
ORGANIZER;CN="VIOS Gym":MAILTO:info@viosgym.nl
END:VEVENT
BEGIN:VEVENT
DTSTART;VALUE=DATE:20181229
DTEND;VALUE=DATE:20181230
DTSTAMP:20260421T062231
CREATED:20181005T084521Z
LAST-MODIFIED:20181005T084521Z
UID:1006-1546041600-1546127999@viosgym.nl
SUMMARY:Gymgala A Touch of Gold
DESCRIPTION:
URL:https://viosgym.nl/activiteit/gymgala-a-touch-of-gold/
LOCATION:Gelderland
END:VEVENT
BEGIN:VEVENT
DTSTART;VALUE=DATE:20181228
DTEND;VALUE=DATE:20181229
DTSTAMP:20260421T062231
CREATED:20181005T090843Z
LAST-MODIFIED:20181005T090843Z
UID:1028-1545955200-1546041599@viosgym.nl
SUMMARY:Geen gymles
DESCRIPTION:
URL:https://viosgym.nl/activiteit/geen-gymles/
LOCATION:Gelderland
END:VEVENT
BEGIN:VEVENT
DTSTART;VALUE=DATE:20181219
DTEND;VALUE=DATE:20181220
DTSTAMP:20260421T062231
CREATED:20181005T085319Z
LAST-MODIFIED:20181005T085319Z
UID:1012-1545177600-1545263999@viosgym.nl
SUMMARY:Oliebollentoernooi
DESCRIPTION:
URL:https://viosgym.nl/activiteit/oliebollentoernooi/
LOCATION:Sportpark De Sonders\, Avesterweg 1\, Beltrum\, Gelderland\, 7156 MH\, Nederland
ORGANIZER;CN="VIOS Gym":MAILTO:info@viosgym.nl
END:VEVENT
BEGIN:VEVENT
DTSTART;VALUE=DATE:20181130
DTEND;VALUE=DATE:20181201
DTSTAMP:20260421T062231
CREATED:20181005T085040Z
LAST-MODIFIED:20181005T085040Z
UID:1008-1543536000-1543622399@viosgym.nl
SUMMARY:Sinterklaas jeugd
DESCRIPTION:
URL:https://viosgym.nl/activiteit/sinterklaas-jeugd-2/
LOCATION:Sportpark De Sonders\, Avesterweg 1\, Beltrum\, Gelderland\, 7156 MH\, Nederland
ORGANIZER;CN="VIOS Gym":MAILTO:info@viosgym.nl
END:VEVENT
BEGIN:VEVENT
DTSTART;VALUE=DATE:20181128
DTEND;VALUE=DATE:20181129
DTSTAMP:20260421T062231
CREATED:20181005T085134Z
LAST-MODIFIED:20181005T085134Z
UID:1010-1543363200-1543449599@viosgym.nl
SUMMARY:Sinterklaas senioren
DESCRIPTION:
URL:https://viosgym.nl/activiteit/sinterklaas-senioren-2/
LOCATION:Gelderland
END:VEVENT
BEGIN:VEVENT
DTSTART;TZID=Europe/Amsterdam:20181109T173000
DTEND;TZID=Europe/Amsterdam:20181109T190000
DTSTAMP:20260421T062231
CREATED:20181005T084436Z
LAST-MODIFIED:20181005T084436Z
UID:1004-1541784600-1541790000@viosgym.nl
SUMMARY:Meedoelles ouders springgroep
DESCRIPTION:
URL:https://viosgym.nl/activiteit/meedoelles-ouders-springgroep/
LOCATION:Sportpark De Sonders\, Avesterweg 1\, Beltrum\, Gelderland\, 7156 MH\, Nederland
ORGANIZER;CN="VIOS Gym":MAILTO:info@viosgym.nl
END:VEVENT
BEGIN:VEVENT
DTSTART;TZID=Europe/Amsterdam:20181102T144500
DTEND;TZID=Europe/Amsterdam:20181102T190000
DTSTAMP:20260421T062231
CREATED:20181005T084343Z
LAST-MODIFIED:20181005T084343Z
UID:1002-1541169900-1541185200@viosgym.nl
SUMMARY:Meedoelessen ouders groepen Thea
DESCRIPTION:
URL:https://viosgym.nl/activiteit/meedoelessen-ouders-groepen-thea/
LOCATION:Sportpark De Sonders\, Avesterweg 1\, Beltrum\, Gelderland\, 7156 MH\, Nederland
ORGANIZER;CN="VIOS Gym":MAILTO:info@viosgym.nl
END:VEVENT
BEGIN:VEVENT
DTSTART;TZID=Europe/Amsterdam:20181101T180000
DTEND;TZID=Europe/Amsterdam:20181101T200000
DTSTAMP:20260421T062231
CREATED:20181005T084220Z
LAST-MODIFIED:20181005T084220Z
UID:1000-1541095200-1541102400@viosgym.nl
SUMMARY:Meedoeles ouders selectie
DESCRIPTION:
URL:https://viosgym.nl/activiteit/meedoeles-ouders-selectie/
LOCATION:Sportpark De Sonders\, Avesterweg 1\, Beltrum\, Gelderland\, 7156 MH\, Nederland
ORGANIZER;CN="VIOS Gym":MAILTO:info@viosgym.nl
END:VEVENT
BEGIN:VEVENT
DTSTART;TZID=Europe/Amsterdam:20181030T193000
DTEND;TZID=Europe/Amsterdam:20181030T200000
DTSTAMP:20260421T062231
CREATED:20181005T083234Z
LAST-MODIFIED:20181005T083234Z
UID:996-1540927800-1540929600@viosgym.nl
SUMMARY:Inloop (half)uurtje bestuur en leiding
DESCRIPTION:
URL:https://viosgym.nl/activiteit/inloop-halfuurtje-bestuur-en-leiding/
LOCATION:Sportpark De Sonders\, Avesterweg 1\, Beltrum\, Gelderland\, 7156 MH\, Nederland
ORGANIZER;CN="VIOS Gym":MAILTO:info@viosgym.nl
END:VEVENT
BEGIN:VEVENT
DTSTART;VALUE=DATE:20181019
DTEND;VALUE=DATE:20181020
DTSTAMP:20260421T062231
CREATED:20181005T083446Z
LAST-MODIFIED:20181005T083446Z
UID:998-1539907200-1539993599@viosgym.nl
SUMMARY:Vriendjes en vriendinnetjes les
DESCRIPTION:
URL:https://viosgym.nl/activiteit/vriendjes-en-vriendinnetjes-les/
LOCATION:Sportpark De Sonders\, Avesterweg 1\, Beltrum\, Gelderland\, 7156 MH\, Nederland
ORGANIZER;CN="VIOS Gym":MAILTO:info@viosgym.nl
END:VEVENT
BEGIN:VEVENT
DTSTART;VALUE=DATE:20180706
DTEND;VALUE=DATE:20180707
DTSTAMP:20260421T062231
CREATED:20180426T153554Z
LAST-MODIFIED:20180426T153554Z
UID:987-1530835200-1530921599@viosgym.nl
SUMMARY:Laatste les / Seizoenafsluiting Jeugd
DESCRIPTION:
URL:https://viosgym.nl/activiteit/laatste-les-seizoenafsluiting-jeugd/
LOCATION:Sportpark De Sonders\, Avesterweg 1\, Beltrum\, Gelderland\, 7156 MH\, Nederland
ORGANIZER;CN="VIOS Gym":MAILTO:info@viosgym.nl
END:VEVENT
BEGIN:VEVENT
DTSTART;VALUE=DATE:20180630
DTEND;VALUE=DATE:20180701
DTSTAMP:20260421T062231
CREATED:20180426T153457Z
LAST-MODIFIED:20180426T153457Z
UID:985-1530316800-1530403199@viosgym.nl
SUMMARY:Clubkampioenschappen 2018
DESCRIPTION:Zaterdag 30 juni zijn de clubkampioenschappen 2018. \nDeze activiteit wordt in de ochtend georganiseerd. \nExacte tijd volgt
URL:https://viosgym.nl/activiteit/clubkampioenschappen-2018/
LOCATION:Sportpark De Sonders\, Avesterweg 1\, Beltrum\, Gelderland\, 7156 MH\, Nederland
ORGANIZER;CN="VIOS Gym":MAILTO:info@viosgym.nl
END:VEVENT
BEGIN:VEVENT
DTSTART;VALUE=DATE:20180427
DTEND;VALUE=DATE:20180428
DTSTAMP:20260421T062231
CREATED:20170825T113227Z
LAST-MODIFIED:20170825T113227Z
UID:790-1524787200-1524873599@viosgym.nl
SUMMARY:Koningsspelen
DESCRIPTION:Vier samen met ons de verjaardag van de koning. \nKom gymmen in oranje kleding
URL:https://viosgym.nl/activiteit/koningsspelen/
LOCATION:Sportpark De Sonders\, Avesterweg 1\, Beltrum\, Gelderland\, 7156 MH\, Nederland
ORGANIZER;CN="VIOS Gym":MAILTO:info@viosgym.nl
END:VEVENT
BEGIN:VEVENT
DTSTART;VALUE=DATE:20180412
DTEND;VALUE=DATE:20180413
DTSTAMP:20260421T062231
CREATED:20170825T113112Z
LAST-MODIFIED:20170825T113112Z
UID:788-1523491200-1523577599@viosgym.nl
SUMMARY:Jaarvergadering Vios gym
DESCRIPTION:Tijd en locatie volgt
URL:https://viosgym.nl/activiteit/jaarvergadering-vios-gym/
LOCATION:Gelderland
ORGANIZER;CN="VIOS Gym":MAILTO:info@viosgym.nl
END:VEVENT
END:VCALENDAR