BEGIN:VCALENDAR
VERSION:2.0
PRODID:-//Vios Gym Beltrum - ECPv6.15.20//NONSGML v1.0//EN
CALSCALE:GREGORIAN
METHOD:PUBLISH
X-WR-CALNAME:Vios Gym Beltrum
X-ORIGINAL-URL:https://viosgym.nl
X-WR-CALDESC:Evenementen voor Vios Gym Beltrum
REFRESH-INTERVAL;VALUE=DURATION:PT1H
X-Robots-Tag:noindex
X-PUBLISHED-TTL:PT1H
BEGIN:VTIMEZONE
TZID:Europe/Amsterdam
BEGIN:DAYLIGHT
TZOFFSETFROM:+0100
TZOFFSETTO:+0200
TZNAME:CEST
DTSTART:20160327T010000
END:DAYLIGHT
BEGIN:STANDARD
TZOFFSETFROM:+0200
TZOFFSETTO:+0100
TZNAME:CET
DTSTART:20161030T010000
END:STANDARD
BEGIN:DAYLIGHT
TZOFFSETFROM:+0100
TZOFFSETTO:+0200
TZNAME:CEST
DTSTART:20170326T010000
END:DAYLIGHT
BEGIN:STANDARD
TZOFFSETFROM:+0200
TZOFFSETTO:+0100
TZNAME:CET
DTSTART:20171029T010000
END:STANDARD
BEGIN:DAYLIGHT
TZOFFSETFROM:+0100
TZOFFSETTO:+0200
TZNAME:CEST
DTSTART:20180325T010000
END:DAYLIGHT
BEGIN:STANDARD
TZOFFSETFROM:+0200
TZOFFSETTO:+0100
TZNAME:CET
DTSTART:20181028T010000
END:STANDARD
END:VTIMEZONE
BEGIN:VEVENT
DTSTART;VALUE=DATE:20170311
DTEND;VALUE=DATE:20170312
DTSTAMP:20260421T185924
CREATED:20170304T155617Z
LAST-MODIFIED:20170304T155617Z
UID:690-1489190400-1489276799@viosgym.nl
SUMMARY:Selectie wedstrijden 5e divisie
DESCRIPTION:
URL:https://viosgym.nl/activiteit/selectie-wedstrijden-5e-divisie/
LOCATION:Saza topsporthal Doetinchem\, Sportweg 1\, Doetinchem\, Gelderland\, 7006GJ\, Nederland
CATEGORIES:5e divisie,Wedstrijden
ORGANIZER;CN="VIOS Gym":MAILTO:info@viosgym.nl
END:VEVENT
BEGIN:VEVENT
DTSTART;VALUE=DATE:20170227
DTEND;VALUE=DATE:20170307
DTSTAMP:20260421T185924
CREATED:20161101T110638Z
LAST-MODIFIED:20161101T110638Z
UID:113-1488157200-1488761999@viosgym.nl
SUMMARY:Carnavalsvakantie
DESCRIPTION:Geen les!
URL:https://viosgym.nl/activiteit/carnavalsvakantie/
LOCATION:Gelderland
CATEGORIES:Vakantie
END:VEVENT
BEGIN:VEVENT
DTSTART;VALUE=DATE:20170224
DTEND;VALUE=DATE:20170226
DTSTAMP:20260421T185924
CREATED:20161101T110146Z
LAST-MODIFIED:20161220T185129Z
UID:107-1487898000-1487984399@viosgym.nl
SUMMARY:Carnaval
DESCRIPTION:In carnavalskleding!
URL:https://viosgym.nl/activiteit/carnaval/
LOCATION:Sportpark De Sonders\, Avesterweg 1\, Beltrum\, Gelderland\, 7156 MH\, Nederland
ORGANIZER;CN="VIOS Gym":MAILTO:info@viosgym.nl
END:VEVENT
BEGIN:VEVENT
DTSTART;VALUE=DATE:20170106
DTEND;VALUE=DATE:20170108
DTSTAMP:20260421T185924
CREATED:20161101T105908Z
LAST-MODIFIED:20161101T105908Z
UID:99-1483664400-1483750799@viosgym.nl
SUMMARY:Filmmiddag
DESCRIPTION:
URL:https://viosgym.nl/activiteit/filmmiddag/
LOCATION:Sportpark De Sonders\, Avesterweg 1\, Beltrum\, Gelderland\, 7156 MH\, Nederland
ORGANIZER;CN="VIOS Gym":MAILTO:info@viosgym.nl
END:VEVENT
END:VCALENDAR